BEGIN:VCALENDAR
VERSION:2.0
PRODID:spatie/icalendar-generator
DESCRIPTION:Events from Moscow Elks Lodge #249
X-WR-CALDESC:Events from Moscow Elks Lodge #249
REFRESH-INTERVAL;VALUE=DURATION:PT1440M
X-PUBLISHED-TTL:PT1440M
BEGIN:VTIMEZONE
TZID:America/Los_Angeles
BEGIN:STANDARD
DTSTART:20241103T020000Z
TZOFFSETFROM:-0700
TZOFFSETTO:-0800
END:STANDARD
BEGIN:DAYLIGHT
DTSTART:20250309T020000Z
TZOFFSETFROM:-0800
TZOFFSETTO:-0700
END:DAYLIGHT
END:VTIMEZONE
BEGIN:VTIMEZONE
TZID:UTC
BEGIN:STANDARD
DTSTART:20250725T014200Z
TZOFFSETFROM:+0000
TZOFFSETTO:+0000
END:STANDARD
END:VTIMEZONE
BEGIN:VEVENT
UID:507-76
DTSTAMP:20260421T014200Z
SUMMARY:Dinner\, Drinks and Activities
LOCATION:Elks 249er Bar &amp;amp\; Diner
ORGANIZER;CN=Todd Weston:MAILTO:farmboy@harvestmail.us
RRULE:FREQ=WEEKLY;UNTIL=20250328T000000Z
DTSTART;TZID=America/Los_Angeles:20250321T160000
DTEND;TZID=America/Los_Angeles:20250321T210000
X-ALT-DESC;FMTTYPE=TEXT/HTML:Offerings will change weekly - please look at 
 Facebook page to see details
CATEGORIES:General
URL;VALUE=URI:http://www.elks249.com/?mc-events=dinner-drinks-and-activitie
 s&amp;mc_id=507
END:VEVENT
END:VCALENDAR