BEGIN:VCALENDAR
VERSION:2.0
PRODID:spatie/icalendar-generator
DESCRIPTION:Events from Moscow Elks Lodge #249
X-WR-CALDESC:Events from Moscow Elks Lodge #249
REFRESH-INTERVAL;VALUE=DURATION:PT1440M
X-PUBLISHED-TTL:PT1440M
BEGIN:VTIMEZONE
TZID:America/Los_Angeles
BEGIN:DAYLIGHT
DTSTART:20250309T020000Z
TZOFFSETFROM:-0800
TZOFFSETTO:-0700
END:DAYLIGHT
BEGIN:STANDARD
DTSTART:20251102T020000Z
TZOFFSETFROM:-0700
TZOFFSETTO:-0800
END:STANDARD
BEGIN:DAYLIGHT
DTSTART:20260308T020000Z
TZOFFSETFROM:-0800
TZOFFSETTO:-0700
END:DAYLIGHT
END:VTIMEZONE
BEGIN:VTIMEZONE
TZID:UTC
BEGIN:STANDARD
DTSTART:20250724T182842Z
TZOFFSETFROM:+0000
TZOFFSETTO:+0000
END:STANDARD
END:VTIMEZONE
BEGIN:VEVENT
UID:464-72
DTSTAMP:20260420T182842Z
SUMMARY:Lodge Meeting 1
LOCATION:Lodge Room
ORGANIZER;CN=Todd Weston:MAILTO:farmboy@harvestmail.us
RRULE:FREQ=MONTHLY;BYDAY=2WE;UNTIL=20251210T000000Z
DTSTART;TZID=America/Los_Angeles:20251112T183000
DTEND;TZID=America/Los_Angeles:20251112T200000
X-ALT-DESC;FMTTYPE=TEXT/HTML:
CATEGORIES:Business
URL;VALUE=URI:http://www.elks249.com/?mc-events=lodge-meeting-1&amp;mc_id=464
END:VEVENT
END:VCALENDAR